BEGIN:VCALENDAR
VERSION:2.0
PRODID:-//eventon.com NONSGML v1.0//EN
CALSCALE:GREGORIAN
METHOD:PUBLISH
BEGIN:VEVENT
UID:69e672e4dc2d4
DTSTAMP:20260420T183932Z
DTSTART:20190928T003000Z
DTEND:20190928T023000Z
LOCATION:University of New England :: Parramatta Level 1\,  232 Church St
SUMMARY:Song of Solomon
DESCRIPTION:Successful relationships do not just happen by chance. The bibl
 e has wisdom for all of us in the area of relationships. So\,  come and joi
 n us as we explore the bible book\,  “Songs of Solomon” together.\nhttp
 s://parramattacentral.org.au/events/song-of-solomon-une/
URL:https://parramattacentral.org.au/events/song-of-solomon-une/
END:VEVENT
END:VCALENDAR