BEGIN:VCALENDAR
VERSION:2.0
PRODID:-//eventon.com NONSGML v1.0//EN
CALSCALE:GREGORIAN
METHOD:PUBLISH
BEGIN:VEVENT
UID:69e5533a35d66
DTSTAMP:20260419T221210Z
DTSTART:20190921T011500Z
DTEND:20190921T023000Z
LOCATION:University of New England :: Parramatta Level 1\,  232 Church St
SUMMARY:Worship
DESCRIPTION:Come and join us in worshipping God through Praise\,  Prayer &a
 mp; Study\nhttps://parramattacentral.org.au/events/worship-une/
URL:https://parramattacentral.org.au/events/worship-une/
END:VEVENT
END:VCALENDAR