BEGIN:VCALENDAR
VERSION:2.0
PRODID:-//eventon.com NONSGML v1.0//EN
CALSCALE:GREGORIAN
METHOD:PUBLISH
BEGIN:VEVENT
UID:69e5ff26b4414
DTSTAMP:20260420T102542Z
DTSTART:20200110T233000Z
DTEND:20200111T020000Z
LOCATION:PCYC 107 George St
SUMMARY:Thrive Group
DESCRIPTION:Thrive is an opportunity to dig into the Word of God and to sha
 re what we learn. The environment is casual and relaxed.\nhttps://parramatt
 acentral.org.au/events/thrive-group-pcyc-parramatta/
URL:https://parramattacentral.org.au/events/thrive-group-pcyc-parramatta/
END:VEVENT
END:VCALENDAR